BEGIN:VCALENDAR
VERSION:2.0
PRODID:-//Youh Hollandskroon - ECPv6.15.16//NONSGML v1.0//EN
CALSCALE:GREGORIAN
METHOD:PUBLISH
X-ORIGINAL-URL:https://youh-hollandskroon.nl
X-WR-CALDESC:Evenementen voor Youh Hollandskroon
REFRESH-INTERVAL;VALUE=DURATION:PT1H
X-Robots-Tag:noindex
X-PUBLISHED-TTL:PT1H
BEGIN:VTIMEZONE
TZID:UTC
BEGIN:STANDARD
TZOFFSETFROM:+0000
TZOFFSETTO:+0000
TZNAME:UTC
DTSTART:20230101T000000
END:STANDARD
END:VTIMEZONE
BEGIN:VEVENT
DTSTART;TZID=UTC:20240621T160000
DTEND;TZID=UTC:20240623T120000
DTSTAMP:20260421T082051
CREATED:20240527T103129Z
LAST-MODIFIED:20240527T103129Z
UID:10001125-1718985600-1719144000@youh-hollandskroon.nl
SUMMARY:3-daagse karper koppelwedstrijd
DESCRIPTION:3-daagse karper koppel wedstrijd. \nHengelsportvereniging Hollands Kroon organiseert op: \n\n24/25/26 mei 2024 Eerste karper koppelwedstrijd aanvang 16.00 uur.\n\n\n21/22/23 juni 2024 Tweede karper koppelwedstrijd aanvang 16.00 uur.\n\nDe beide wedstrijden eindigen om 12.00 uur. Locatie: Terpad 5 Wieringerwerf. Loting om 16.30 uur. Vislocatie: 3 grote wateren Wieringermeer. \nInschrijven\nInschrijfgeld 30\,00 per koppel per wedstrijd\, u kunt het op onderstaand banknummer overmaken onder vermelding karperwedstrijd en uw gegevens. \nInschrijving kunt u doen via onderstaand mailadres of telefoonnummer: \nHengelsportvereniging Hollands Kroon \nBezoekadres: Trekpad 5\, 1771RZ Wieringerwerf \nPostadres: De Jagtman3\, 1606 DD Venhuizen \nBank: ING iban NL 16 INGB 0005 8311 78.  BIC INGBNL2A \nTel: (06) 42018967 \nEmail: info@hsv-hollandskroon.nl \nWebsite: hsv-hollandskroon.nl \nPrijzen\nPrijzengeld: \n\n1e prijs 150\,00\n2e prijs 75\,00 Waardebon\n3e prijs 25\,00 waardebon\nWie het hoogst eindigt in de twee wedstrijden Wisselbeker
URL:https://youh-hollandskroon.nl/event/3-daagse-karper-koppelwedstrijd-2/
LOCATION:Wieringerwerf – Hengelsportvereniging Hollands Kroon\, Terppad 5\, Wieringerwerf\, 1771 RZ
ATTACH;FMTTYPE=image/png:https://youh-hollandskroon.nl/wp-content/uploads/2024/05/afbeelding_2024-05-27_120912523.png
END:VEVENT
BEGIN:VEVENT
DTSTART;TZID=UTC:20240524T160000
DTEND;TZID=UTC:20240526T120000
DTSTAMP:20260421T082051
CREATED:20240527T103033Z
LAST-MODIFIED:20240527T103033Z
UID:10001124-1716566400-1716724800@youh-hollandskroon.nl
SUMMARY:3-daagse karper koppelwedstrijd
DESCRIPTION:3-daagse karper koppel wedstrijd. \nHengelsportvereniging Hollands Kroon organiseert op: \n\n24/25/26 mei 2024 Eerste karper koppelwedstrijd aanvang 16.00 uur.\n\n\n21/22/23 juni 2024 Tweede karper koppelwedstrijd aanvang 16.00 uur.\n\nDe beide wedstrijden eindigen om 12.00 uur. Locatie: Terpad 5 Wieringerwerf. Loting om 16.30 uur. Vislocatie: 3 grote wateren Wieringermeer. \nInschrijven\nInschrijfgeld 30\,00 per koppel per wedstrijd\, u kunt het op onderstaand banknummer overmaken onder vermelding karperwedstrijd en uw gegevens. \nInschrijving kunt u doen via onderstaand mailadres of telefoonnummer: \nHengelsportvereniging Hollands Kroon \nBezoekadres: Trekpad 5\, 1771RZ Wieringerwerf \nPostadres: De Jagtman3\, 1606 DD Venhuizen \nBank: ING iban NL 16 INGB 0005 8311 78.  BIC INGBNL2A \nTel: (06) 42018967 \nEmail: info@hsv-hollandskroon.nl \nWebsite: hsv-hollandskroon.nl \nPrijzen\nPrijzengeld: \n\n1e prijs 150\,00\n2e prijs 75\,00 Waardebon\n3e prijs 25\,00 waardebon\nWie het hoogst eindigt in de twee wedstrijden Wisselbeker
URL:https://youh-hollandskroon.nl/event/3-daagse-karper-koppelwedstrijd/
LOCATION:Wieringerwerf – Hengelsportvereniging Hollands Kroon\, Terppad 5\, Wieringerwerf\, 1771 RZ
ATTACH;FMTTYPE=image/png:https://youh-hollandskroon.nl/wp-content/uploads/2024/05/afbeelding_2024-05-27_120912523.png
END:VEVENT
END:VCALENDAR