BEGIN:VCALENDAR
VERSION:2.0
PRODID:-//Youh Hollandskroon - ECPv6.15.16//NONSGML v1.0//EN
CALSCALE:GREGORIAN
METHOD:PUBLISH
X-WR-CALNAME:Youh Hollandskroon
X-ORIGINAL-URL:https://youh-hollandskroon.nl
X-WR-CALDESC:Evenementen voor Youh Hollandskroon
REFRESH-INTERVAL;VALUE=DURATION:PT1H
X-Robots-Tag:noindex
X-PUBLISHED-TTL:PT1H
BEGIN:VTIMEZONE
TZID:UTC
BEGIN:STANDARD
TZOFFSETFROM:+0000
TZOFFSETTO:+0000
TZNAME:UTC
DTSTART:20230101T000000
END:STANDARD
END:VTIMEZONE
BEGIN:VEVENT
DTSTART;TZID=UTC:20240728T110000
DTEND;TZID=UTC:20240728T203000
DTSTAMP:20260421T081951
CREATED:20240527T132430Z
LAST-MODIFIED:20240527T132430Z
UID:10001131-1722164400-1722198600@youh-hollandskroon.nl
SUMMARY:Kermissportwedstrijden op Sportcomplex Kleine Sluis
DESCRIPTION:Handbal- en voetbalwedstrijden op de kermiszondagmiddag voor sporters en publiek. Een gezellige middag met een hapje en een drankje. Wordt al georganiseerd sinds 1950!
URL:https://youh-hollandskroon.nl/event/kermissportwedstrijden-op-sportcomplex-kleine-sluis/
LOCATION:Anna Paulowna – Sportcomplex Kleine Sluis\, Sportlaan 21\, Anna Paulowna\, 1761 ZA\, Nederland
ATTACH;FMTTYPE=image/png:https://youh-hollandskroon.nl/wp-content/uploads/2024/05/afbeelding_2024-05-27_152116800.png
END:VEVENT
END:VCALENDAR